BEGIN:VCALENDAR
VERSION:2.0
PRODID:-//Casa della Tenerezza - ECPv6.15.17//NONSGML v1.0//EN
CALSCALE:GREGORIAN
METHOD:PUBLISH
X-WR-CALNAME:Casa della Tenerezza
X-ORIGINAL-URL:https://www.casadellatenerezza.it
X-WR-CALDESC:Eventi per Casa della Tenerezza
REFRESH-INTERVAL;VALUE=DURATION:PT1H
X-Robots-Tag:noindex
X-PUBLISHED-TTL:PT1H
BEGIN:VTIMEZONE
TZID:Europe/Rome
BEGIN:DAYLIGHT
TZOFFSETFROM:+0100
TZOFFSETTO:+0200
TZNAME:CEST
DTSTART:20250330T010000
END:DAYLIGHT
BEGIN:STANDARD
TZOFFSETFROM:+0200
TZOFFSETTO:+0100
TZNAME:CET
DTSTART:20251026T010000
END:STANDARD
BEGIN:DAYLIGHT
TZOFFSETFROM:+0100
TZOFFSETTO:+0200
TZNAME:CEST
DTSTART:20260329T010000
END:DAYLIGHT
BEGIN:STANDARD
TZOFFSETFROM:+0200
TZOFFSETTO:+0100
TZNAME:CET
DTSTART:20261025T010000
END:STANDARD
BEGIN:DAYLIGHT
TZOFFSETFROM:+0100
TZOFFSETTO:+0200
TZNAME:CEST
DTSTART:20270328T010000
END:DAYLIGHT
BEGIN:STANDARD
TZOFFSETFROM:+0200
TZOFFSETTO:+0100
TZNAME:CET
DTSTART:20271031T010000
END:STANDARD
END:VTIMEZONE
BEGIN:VEVENT
DTSTART;TZID=Europe/Rome:20260419T093000
DTEND;TZID=Europe/Rome:20260419T173000
DTSTAMP:20260421T121125
CREATED:20260327T151150Z
LAST-MODIFIED:20260415T065748Z
UID:5948-1776591000-1776619800@www.casadellatenerezza.it
SUMMARY:19 aprile 2026 "FATE L'AMORE NON FATE LA GUERRA: per una intimità vissuta con tenerezza"
DESCRIPTION:Artigiani di Pace: Tessere Relazioni di Tenerezza\nCosa significa vivere l’intimità come un dono e un cammino di grazia? \n\n\nVi invitiamo ad una giornata speciale dedicata alla bellezza dell’unione e alla profondità delle relazioni. Un’occasione per fermarsi\, riflettere e riscoprire il valore della tenerezza nella vita di coppia.\n\n\n\n Quando: Domenica 19 Aprile dalle 9.30 alle 16.30\n Dove: Perugia\, presso la Casa della Tenerezza\n\n\n Come partecipare:\nPURTROPPO AL MOMENTO NON CI SONO PIU’ POSTI DISPOBILI !\nPOTETE ESSERE MESSI IN LISTA DI ATTESA -INVIANDOCI UNA MAIL-  GRAZIE! \n\n Contatta Tiziana al: 347.0962118\n Email: info@casadellatenerezza.it\nVi aspettiamo per tessere insieme nuove trame di pace e tenerezza!
URL:https://www.casadellatenerezza.it/event/19-aprile-2026-fate-lamore-non-fate-la-guerra-per-una-intimita-vissuta-con-tenerezza/
LOCATION:Centro Familiare Casa della Tenerezza\, Centro Familiare Casa della Tenerezza - Perugia\, Perugia\, PG\, 06124\, Italia
CATEGORIES:In evidenza
ATTACH;FMTTYPE=image/jpeg:https://www.casadellatenerezza.it/wp-content/uploads/2026/03/POSTI-ESAURITI.jpg
END:VEVENT
BEGIN:VEVENT
DTSTART;TZID=Europe/Rome:20260421T000000
DTEND;TZID=Europe/Rome:20260531T000000
DTSTAMP:20260421T121125
CREATED:20260421T075036Z
LAST-MODIFIED:20260421T081341Z
UID:5981-1776729600-1780185600@www.casadellatenerezza.it
SUMMARY:Aiutaci con il tuo 5 x 1000
DESCRIPTION:  \n\n5×1000\n\n\nA te non costa nulla\, per noi vuol dire molto. \nBasta inserire nella dichiarazione dei redditi\, all’interno dello spazio dedicato alle Associazioni di volontariato\, \nil codice fiscale del Centro Familiare Casa della Tenerezza ODV: \n80051040543
URL:https://www.casadellatenerezza.it/event/aiutaci-con-il-tuo-5-x-1000/
LOCATION:Centro Familiare Casa della Tenerezza\, Centro Familiare Casa della Tenerezza - Perugia\, Perugia\, PG\, 06124\, Italia
ATTACH;FMTTYPE=image/jpeg:https://www.casadellatenerezza.it/wp-content/uploads/2026/04/Immagine-5x1000_02-1.jpg
END:VEVENT
BEGIN:VEVENT
DTSTART;TZID=Europe/Rome:20260509T173000
DTEND;TZID=Europe/Rome:20260509T203000
DTSTAMP:20260421T121125
CREATED:20260418T171126Z
LAST-MODIFIED:20260418T171126Z
UID:5972-1778347800-1778358600@www.casadellatenerezza.it
SUMMARY:" L'ebbrezza della tenerezza: il vino migliore" sabato 9 maggio
DESCRIPTION:Vi invitiamo a partecipare ad una serata in “leggerezza” per degustare dei vini e vivere una serata all’insegna di un’esperienza di tenerezza\, diversa dal solito. \n             \nPer poter partecipare si deve utilizzare il forma scaricabile dal codice QR della locandina e fare il versamento della quota di iscrizione\, comprensiva delle degustazioni. \nPer ulteriori informazioni telefonare a Tiziana: 347 0962118 \n 
URL:https://www.casadellatenerezza.it/event/lebbrezza-della-tenerezza-il-vino-migliore-sabato-9-maggio/
LOCATION:Cantine GORETTI\, Str. del Pino 4\, Perugia\, 06132
CATEGORIES:In evidenza
ATTACH;FMTTYPE=image/jpeg:https://www.casadellatenerezza.it/wp-content/uploads/2026/04/WhatsApp-Image-2026-04-16-at-15.13.03.jpeg
END:VEVENT
END:VCALENDAR