BEGIN:VCALENDAR
VERSION:2.0
PRODID:-//Casa della Tenerezza - ECPv6.15.17//NONSGML v1.0//EN
CALSCALE:GREGORIAN
METHOD:PUBLISH
X-ORIGINAL-URL:https://www.casadellatenerezza.it
X-WR-CALDESC:Eventi per Casa della Tenerezza
REFRESH-INTERVAL;VALUE=DURATION:PT1H
X-Robots-Tag:noindex
X-PUBLISHED-TTL:PT1H
BEGIN:VTIMEZONE
TZID:Europe/Rome
BEGIN:DAYLIGHT
TZOFFSETFROM:+0100
TZOFFSETTO:+0200
TZNAME:CEST
DTSTART:20190331T010000
END:DAYLIGHT
BEGIN:STANDARD
TZOFFSETFROM:+0200
TZOFFSETTO:+0100
TZNAME:CET
DTSTART:20191027T010000
END:STANDARD
BEGIN:DAYLIGHT
TZOFFSETFROM:+0100
TZOFFSETTO:+0200
TZNAME:CEST
DTSTART:20200329T010000
END:DAYLIGHT
BEGIN:STANDARD
TZOFFSETFROM:+0200
TZOFFSETTO:+0100
TZNAME:CET
DTSTART:20201025T010000
END:STANDARD
BEGIN:DAYLIGHT
TZOFFSETFROM:+0100
TZOFFSETTO:+0200
TZNAME:CEST
DTSTART:20210328T010000
END:DAYLIGHT
BEGIN:STANDARD
TZOFFSETFROM:+0200
TZOFFSETTO:+0100
TZNAME:CET
DTSTART:20211031T010000
END:STANDARD
BEGIN:DAYLIGHT
TZOFFSETFROM:+0100
TZOFFSETTO:+0200
TZNAME:CEST
DTSTART:20220327T010000
END:DAYLIGHT
BEGIN:STANDARD
TZOFFSETFROM:+0200
TZOFFSETTO:+0100
TZNAME:CET
DTSTART:20221030T010000
END:STANDARD
END:VTIMEZONE
BEGIN:VEVENT
DTSTART;TZID=Europe/Rome:20200916T200000
DTEND;TZID=Europe/Rome:20210228T000000
DTSTAMP:20260423T204452
CREATED:20201125T205451Z
LAST-MODIFIED:20201225T164314Z
UID:4367-1600286400-1614470400@www.casadellatenerezza.it
SUMMARY:Sospensione attività
DESCRIPTION:A causa dell’emergenza Covid\, trovandosi nell’impossibilità di programmare i consueti percorsi e i week-end nazionali aperti alle famiglie\, il Centro sospende temporaneamente le attività. La Comunità valorizzerà questo tempo con la preghiera e la formazione per la crescita nella spiritualità della tenerezza su cui essa si fonda.\nVerranno mantenuti i colloqui individuali con le coppie in difficoltà e la celebrazione della Messa mattutina alle 8:30.
URL:https://www.casadellatenerezza.it/event/sospensione-attivita/
LOCATION:PG
CATEGORIES:In evidenza
ATTACH;FMTTYPE=image/png:https://www.casadellatenerezza.it/wp-content/uploads/2020/01/tenerezza-testo.png
END:VEVENT
END:VCALENDAR