BEGIN:VCALENDAR
VERSION:2.0
PRODID:-//Casa della Tenerezza - ECPv6.15.17//NONSGML v1.0//EN
CALSCALE:GREGORIAN
METHOD:PUBLISH
X-ORIGINAL-URL:https://www.casadellatenerezza.it
X-WR-CALDESC:Eventi per Casa della Tenerezza
REFRESH-INTERVAL;VALUE=DURATION:PT1H
X-Robots-Tag:noindex
X-PUBLISHED-TTL:PT1H
BEGIN:VTIMEZONE
TZID:Europe/Rome
BEGIN:DAYLIGHT
TZOFFSETFROM:+0100
TZOFFSETTO:+0200
TZNAME:CEST
DTSTART:20210328T010000
END:DAYLIGHT
BEGIN:STANDARD
TZOFFSETFROM:+0200
TZOFFSETTO:+0100
TZNAME:CET
DTSTART:20211031T010000
END:STANDARD
BEGIN:DAYLIGHT
TZOFFSETFROM:+0100
TZOFFSETTO:+0200
TZNAME:CEST
DTSTART:20220327T010000
END:DAYLIGHT
BEGIN:STANDARD
TZOFFSETFROM:+0200
TZOFFSETTO:+0100
TZNAME:CET
DTSTART:20221030T010000
END:STANDARD
BEGIN:DAYLIGHT
TZOFFSETFROM:+0100
TZOFFSETTO:+0200
TZNAME:CEST
DTSTART:20230326T010000
END:DAYLIGHT
BEGIN:STANDARD
TZOFFSETFROM:+0200
TZOFFSETTO:+0100
TZNAME:CET
DTSTART:20231029T010000
END:STANDARD
END:VTIMEZONE
BEGIN:VEVENT
DTSTART;VALUE=DATE:20220303
DTEND;VALUE=DATE:20220304
DTSTAMP:20260422T132257
CREATED:20220226T185506Z
LAST-MODIFIED:20220226T185506Z
UID:4480-1646265600-1646351999@www.casadellatenerezza.it
SUMMARY:Diario Spaziale
DESCRIPTION:Presentazione in diretta Faceboock dell’Ultimo libro di Barbara Baffetti
URL:https://www.casadellatenerezza.it/event/diario-spaziale/
LOCATION:PG
CATEGORIES:In evidenza
ATTACH;FMTTYPE=image/jpeg:https://www.casadellatenerezza.it/wp-content/uploads/2021/01/Diario-spaziale.jpg
END:VEVENT
END:VCALENDAR