BEGIN:VCALENDAR
VERSION:2.0
PRODID:-//Casa della Tenerezza - ECPv6.15.17//NONSGML v1.0//EN
CALSCALE:GREGORIAN
METHOD:PUBLISH
X-ORIGINAL-URL:https://www.casadellatenerezza.it
X-WR-CALDESC:Eventi per Casa della Tenerezza
REFRESH-INTERVAL;VALUE=DURATION:PT1H
X-Robots-Tag:noindex
X-PUBLISHED-TTL:PT1H
BEGIN:VTIMEZONE
TZID:Europe/Rome
BEGIN:DAYLIGHT
TZOFFSETFROM:+0100
TZOFFSETTO:+0200
TZNAME:CEST
DTSTART:20210328T010000
END:DAYLIGHT
BEGIN:STANDARD
TZOFFSETFROM:+0200
TZOFFSETTO:+0100
TZNAME:CET
DTSTART:20211031T010000
END:STANDARD
BEGIN:DAYLIGHT
TZOFFSETFROM:+0100
TZOFFSETTO:+0200
TZNAME:CEST
DTSTART:20220327T010000
END:DAYLIGHT
BEGIN:STANDARD
TZOFFSETFROM:+0200
TZOFFSETTO:+0100
TZNAME:CET
DTSTART:20221030T010000
END:STANDARD
BEGIN:DAYLIGHT
TZOFFSETFROM:+0100
TZOFFSETTO:+0200
TZNAME:CEST
DTSTART:20230326T010000
END:DAYLIGHT
BEGIN:STANDARD
TZOFFSETFROM:+0200
TZOFFSETTO:+0100
TZNAME:CET
DTSTART:20231029T010000
END:STANDARD
END:VTIMEZONE
BEGIN:VEVENT
DTSTART;VALUE=DATE:20220403
DTEND;VALUE=DATE:20220404
DTSTAMP:20260422T114959
CREATED:20220130T164030Z
LAST-MODIFIED:20220329T174145Z
UID:4463-1648944000-1649030399@www.casadellatenerezza.it
SUMMARY:4° Incontro del cammino Berit
DESCRIPTION:4° Incontro del cammino Berit per tutti coloro che vivono la ferita della separazione\, qualunque sia la loro attuale condizione.\nSe senti il desiderio di condividere o anche solo di ascoltare una parola per te e per la tua vita\, ti invitiamo a provare almeno per un incontro. \nCerti che il cammino guidato dal Signore e condiviso con i fratelli\, ha la forza della tenerezza che cura\, consola\, illumina e sostiene\, ti aspettiamo domenica 3  aprile 2022 alle ore 16.00. L’ incontro sarà sia in presenza (nella sede di Montemorcino del Centro Familiare Casa della Tenerezza) che on line su piattaforma Meet\, per favorire la massima partecipazione. \nPer info e iscrizione contattare Alessandra al numero 3485595917.
URL:https://www.casadellatenerezza.it/event/3-incontro-del-cammino-berit/
LOCATION:Incontro in presenza e in videoconferenza
CATEGORIES:In evidenza
ATTACH;FMTTYPE=image/jpeg:https://www.casadellatenerezza.it/wp-content/uploads/2022/01/Sinodo_LOGO-ITALIANO-JEPG-scaled.jpg
END:VEVENT
BEGIN:VEVENT
DTSTART;VALUE=DATE:20220415
DTEND;VALUE=DATE:20220425
DTSTAMP:20260422T114959
CREATED:20220415T174143Z
LAST-MODIFIED:20220416T084723Z
UID:4516-1649980800-1650844799@www.casadellatenerezza.it
SUMMARY:Tanti Auguri per una Pasqua di Pace
DESCRIPTION:Le vicende e gli orrori delle guerre sono raffigurate in questo murale \nche oggi diviene di grande attualità. \nGesù\, il Crocifisso\, che quasi non si nota nella raffigurazione della distruzione totale\, \nsi offre per noi ogni giorno sulla mensa eucaristica. \n Buona Pasqua a tutti\nIl Centro Familiare Casa della Tenerezza \nChiesa di S.Francesco d’Assisi ad Avellino\, “MURALE DELLA PACE”  (Ettore de Conciliis\, 1965)
URL:https://www.casadellatenerezza.it/event/tanti-auguri-per-una-pasqua-di-pace/
LOCATION:PG
CATEGORIES:In evidenza
ATTACH;FMTTYPE=image/jpeg:https://www.casadellatenerezza.it/wp-content/uploads/2022/04/arton98326-e7260.jpg
END:VEVENT
END:VCALENDAR