BEGIN:VCALENDAR
VERSION:2.0
PRODID:-//Casa della Tenerezza - ECPv6.15.17//NONSGML v1.0//EN
CALSCALE:GREGORIAN
METHOD:PUBLISH
X-ORIGINAL-URL:https://www.casadellatenerezza.it
X-WR-CALDESC:Eventi per Casa della Tenerezza
REFRESH-INTERVAL;VALUE=DURATION:PT1H
X-Robots-Tag:noindex
X-PUBLISHED-TTL:PT1H
BEGIN:VTIMEZONE
TZID:Europe/Rome
BEGIN:DAYLIGHT
TZOFFSETFROM:+0100
TZOFFSETTO:+0200
TZNAME:CEST
DTSTART:20210328T010000
END:DAYLIGHT
BEGIN:STANDARD
TZOFFSETFROM:+0200
TZOFFSETTO:+0100
TZNAME:CET
DTSTART:20211031T010000
END:STANDARD
BEGIN:DAYLIGHT
TZOFFSETFROM:+0100
TZOFFSETTO:+0200
TZNAME:CEST
DTSTART:20220327T010000
END:DAYLIGHT
BEGIN:STANDARD
TZOFFSETFROM:+0200
TZOFFSETTO:+0100
TZNAME:CET
DTSTART:20221030T010000
END:STANDARD
BEGIN:DAYLIGHT
TZOFFSETFROM:+0100
TZOFFSETTO:+0200
TZNAME:CEST
DTSTART:20230326T010000
END:DAYLIGHT
BEGIN:STANDARD
TZOFFSETFROM:+0200
TZOFFSETTO:+0100
TZNAME:CET
DTSTART:20231029T010000
END:STANDARD
END:VTIMEZONE
BEGIN:VEVENT
DTSTART;VALUE=DATE:20220509
DTEND;VALUE=DATE:20220510
DTSTAMP:20260420T101219
CREATED:20220502T180528Z
LAST-MODIFIED:20220502T180528Z
UID:4526-1652054400-1652140799@www.casadellatenerezza.it
SUMMARY:Napoli 9 maggio 2022 ore 11\,00
DESCRIPTION:Lunedì 9 maggio alle ore 11 a Napoli\, nella Facoltà Teologica dell’Italia Meridionale – presso l’Istituto di Cristologia-\nsarà presentato il libro: “Il Kyrios verso il trionfo finale”. Interverrà anche l’autore don Carlo Rocchetta
URL:https://www.casadellatenerezza.it/event/napoli-9-maggio-2022-ore-1100/
ATTACH;FMTTYPE=image/jpeg:https://www.casadellatenerezza.it/wp-content/uploads/2022/02/Kirios-1.jpg
END:VEVENT
BEGIN:VEVENT
DTSTART;VALUE=DATE:20220519
DTEND;VALUE=DATE:20220520
DTSTAMP:20260420T101219
CREATED:20220505T142302Z
LAST-MODIFIED:20220505T142302Z
UID:4533-1652918400-1653004799@www.casadellatenerezza.it
SUMMARY:Assisi\, 19 maggio 2022
DESCRIPTION:
URL:https://www.casadellatenerezza.it/event/assisi-19-maggio-2022/
ATTACH;FMTTYPE=image/jpeg:https://www.casadellatenerezza.it/wp-content/uploads/2022/05/19-maggio-2022_5c188bb6-dc6b-4ff5-8caa-131d29180608-1.jpg
END:VEVENT
BEGIN:VEVENT
DTSTART;VALUE=DATE:20220528
DTEND;VALUE=DATE:20220529
DTSTAMP:20260420T101219
CREATED:20220525T075931Z
LAST-MODIFIED:20220525T075931Z
UID:4545-1653696000-1653782399@www.casadellatenerezza.it
SUMMARY:PAROLA DI RAGAZZO
DESCRIPTION:Diario a più voci\, compagno di viaggio\, breviario minimo\, mappa operativa per accompagnare i ragazzi in quella “età di mezzo” che è l’esordio dell’adolescenza. Questo libro ha più dimensioni\, riflessive e operative\, offerte da un’esperta che lavora quotidianamente nelle scuole attraverso laboratori di affettività e stanze di dialogo con ragazzi e famiglie. Il filo che unisce ciascun capitolo sono 15 password\, parole chiave per “entrare in connessione” e affrontare insieme (tra genitori e figli\, ma anche in esperienze di gruppo e di oratorio) la fatica di crescere\, le domande scomode\, le emozioni\, i progetti e le speranze di una vita tutta da vivere. \n 
URL:https://www.casadellatenerezza.it/event/parola-di-ragazzo/
LOCATION:Nocera Umbra (PG) – Domus Ecclesiae\, Via S.Rinaldo n.8\, Nocera Umbra\, Perugia\, 06025\, Italia
CATEGORIES:In evidenza
ATTACH;FMTTYPE=image/jpeg:https://www.casadellatenerezza.it/wp-content/uploads/2022/05/13bc2f40-0249-497c-b546-6f19b0bd5648.jpg
END:VEVENT
END:VCALENDAR